BEGIN:VCALENDAR
VERSION:2.0
PRODID:-//wp-events-plugin.com//7.2.3.1//EN
TZID:Europe/Berlin
X-WR-TIMEZONE:Europe/Berlin
BEGIN:VEVENT
UID:96@burginia.de
DTSTART;TZID=Europe/Berlin:20260628T100000
DTEND;TZID=Europe/Berlin:20260628T200000
DTSTAMP:20260405T172745Z
URL:https://www.burginia.de/events/couleurbummel-freilichtmuseum-hagen/
SUMMARY:Couleurbummel Freilichtmuseum Hagen
DESCRIPTION:Genau Infos folgen bald...
ATTACH;FMTTYPE=image/jpeg:https://www.burginia.de/wp-content/uploads/2026/
 04/Screenshot-2026-04-05-192633.jpg
CATEGORIES:Farbenbummel
LOCATION:LWL Freilichtmuseum Hagen\, Mäckingerbach\, Hagen\, NRW\, 58091\,
  Deutschland
X-APPLE-STRUCTURED-LOCATION;VALUE=URI;X-ADDRESS=Mäckingerbach\, Hagen\, NR
 W\, 58091\, Deutschland;X-APPLE-RADIUS=100;X-TITLE=LWL Freilichtmuseum Hag
 en:geo:0,0
END:VEVENT
BEGIN:VEVENT
UID:92@burginia.de
DTSTART;TZID=Europe/Berlin:20260712T140000
DTEND;TZID=Europe/Berlin:20260712T220000
DTSTAMP:20260204T113641Z
URL:https://www.burginia.de/events/couleurbummel-im-bagno-sound-garden-202
 6/
SUMMARY:Couleurbummel im Bagno Sound Garden 2026
DESCRIPTION:Wir treffen uns für einen Couleurbummel im Bagno Sound Garden 
 in Steinfurt gegen 14:00\, gut ausgerüstet mit Getränken und Knabbereien
  in Selbstverpflegung\, auf dem Parkplatz der Berufschule (siehe Karte unt
 en).\n\n[osm_map_v3 map_center="52.1469\,7.3454" zoom="16.0" width="95%" h
 eight="200" post_markers="1" control="scaleline"]\n\nDer “Bagno Sound Ga
 rden” beginnt um 15:00 Uhr geht bis 18:00 Uhr auf einer Strecke von 1\,4
  km zwischen dem Schloss und der Konzertgalerie an rund 25 Stellen mit unt
 erschiedlichsten musikalischen und künstlerischen Darbietungen statt. Die
  Kombination von Kultur und Natur haben hier eine lange Tradition.\n\nHier
  könnt Ihr Informationen über die einzelnen Stationen nachlesen und euch
  einen "Zuhörplan" machen :-)\n\nAnschließen ab 18:30 findet ein gemeins
 ames Abendessen im Pöttken - Ristorante Italiano statt.\n\n[osm_map_v3 ma
 p_center="52.1473\,7.3420" zoom="17.0" width="95%" height="250" post_marke
 rs="2" control="scaleline"]
ATTACH;FMTTYPE=image/jpeg:https://www.burginia.de/wp-content/uploads/2024/
 06/20240630_162454-1024x768-1.jpg
CATEGORIES:Farbenbummel
LOCATION:Bagno Burgsteinfurt\, Im Bagno\, Steinfurt\, 48565\, Deutschland
X-APPLE-STRUCTURED-LOCATION;VALUE=URI;X-ADDRESS=Im Bagno\, Steinfurt\, 4856
 5\, Deutschland;X-APPLE-RADIUS=100;X-TITLE=Bagno Burgsteinfurt:geo:0,0
END:VEVENT
BEGIN:VEVENT
UID:95@burginia.de
DTSTART;TZID=Europe/Berlin:20261024T170000
DTEND;TZID=Europe/Berlin:20261025T234500
DTSTAMP:20260324T182613Z
URL:https://www.burginia.de/events/unser-64-stiftungsfest-vom-24-bis-25-10
 -2026/
SUMMARY:Unser 64. Stiftungsfest vom 24. bis 25.10.2026
DESCRIPTION:64. Stiftungsfest im 128. Farbensemester.\nFolgende Programmfol
 ge ist am Samstag und Sonntag geplant:\nSamstag\n\n 	17:00 Uhr c.t. Anreis
 e zum Stiftungsfest\n 	18:00 Uhr s.t. Couleuressen\n 	20:00 Uhr c.t. Stift
 ungsfestkneipe zum 64. Stiftungsfest\, Ehrungen 80\, 100 und 120 Farbensem
 ester.\n\nSonntag\n&nbsp\;Exkursion (N.N.)\n\nUnterkunft am Veranstaltungs
 ort:\n\nSiehe Tourist Informationen Steinfurt\n\n[osm_map_v3 map_center="5
 2.1407\,7.3545" zoom="14.0" width="95%" height="250" post_markers="1" ]\n\
 n&nbsp\;\n\n\n\n&nbsp\;\n\n\n\n&nbsp\;
ATTACH;FMTTYPE=image/jpeg:https://www.burginia.de/wp-content/uploads/2026/
 02/Logo_ICB_63_Stiftungsfest.jpg
CATEGORIES:Stiftungsfest
LOCATION:Parkhotel Nordwalde\, Bahnhofstraße 121\, Nordwalde\, NRW\, 48356
 \, NRW\, Deutschland
X-APPLE-STRUCTURED-LOCATION;VALUE=URI;X-ADDRESS=Bahnhofstraße 121\, Nordwa
 lde\, NRW\, 48356\, NRW\, Deutschland;X-APPLE-RADIUS=100;X-TITLE=Parkhotel
  Nordwalde:geo:0,0
END:VEVENT
BEGIN:VEVENT
UID:90@burginia.de
DTSTART;TZID=Europe/Berlin:20261212T200000
DTEND;TZID=Europe/Berlin:20261212T234500
DTSTAMP:20260204T113837Z
URL:https://www.burginia.de/events/feuerzangenbowle-2026/
SUMMARY:Feuerzangenbowle 2026
DESCRIPTION:... da stellen wir uns ganz dumm ... wat ist denn ne´ Dampfmas
 chieeen ...\n\nSeit nun mehr fast ein viertel Jahrundert findet bei CD Bir
 git und AH3x Laplace die "traditionelle Feuerzangenbowle" statt. Hoch wiss
 enschaftlich ausgeklügelte Kompositionen aus Rotwein\, Rum. Zucker\, fris
 ch gepressten Orangen- und Citronensaft\, Nelken\, Zimt und Anis ergeben d
 en legendären Krambambuli\, der schon oft besungen... den Rest berichten 
 Euch die\, die schon dabei waren :- )))\n\nVor Ort stehen stehen wie immer
  12 Plätze zur Verfügung - also frühzeitig anmelden :-)\n\nFolgende Hot
 els sind fußläufig gut zu erreichen:\n\nHotel Stüer\, Laerstrasse 6-8\,
  48341 Altenberge\n\nIsabella\, Borghorster Str. 16\, 48341 Altenberge\n\n
 &nbsp\;
ATTACH;FMTTYPE=image/jpeg:https://www.burginia.de/wp-content/uploads/2024/
 11/IMG_3578-scaled.jpg
CATEGORIES:Feuerzangenbowle
LOCATION:CD Birgit und AH Laplace\, Markenstiege 8\, Altenberge\, 48341\, D
 eutschland
GEO:52.040073;7.46804
X-APPLE-STRUCTURED-LOCATION;VALUE=URI;X-ADDRESS=Markenstiege 8\, Altenberge
 \, 48341\, Deutschland;X-APPLE-RADIUS=100;X-TITLE=CD Birgit und AH Laplace
 :geo:52.040073,7.46804
END:VEVENT
BEGIN:VEVENT
UID:91@burginia.de
DTSTART;TZID=Europe/Berlin:20270123T183000
DTEND;TZID=Europe/Berlin:20270123T234500
DTSTAMP:20260210T190649Z
URL:https://www.burginia.de/events/ahc-gc-2027/
SUMMARY:AHC/GC 2027
DESCRIPTION:Jahreshauptversammlungen der IC Burginia für das Geschäftsjah
 r 01.10.2025 bis 30.09.2026. Wir starten am 23.01.2027 um 18:30 Uhr h.s.t 
 mit dem AHC/GC und dem Tätigkeitsbericht für das GJ 2025/2026.\nWir bitt
 en für die Organisation um Anmeldung zur Teilnahme bis zum 18.01.2027 e.o
 .B.\n\nGerne schon Ideen für den Veranstaltungskalender 2027/2028 sammeln
 \, mitbringen oder per Email an ahv(at)burginia.de senden.\n\nDa der Tagun
 gsort im Parkhotel am Bahnhof Nordwalde liegt\, ist die Nutzung von öffen
 tlichen Verkehrsmitteln perfekt möglich. Hotelzimmer können dort direkt 
 von Euch telefonisch unter 02573-93 843 gebucht werden.\n\nHier der Link z
 ur Tagesordnung und dem letzten Protokoll im Mitgliederbereich.\n\n[osm_ma
 p_v3 map_center="52.0792\,7.4603" zoom="15.0" width="95%" height="200" pos
 t_markers="1" ]\n\n&nbsp\;\n\n&nbsp\;
ATTACH;FMTTYPE=image/jpeg:https://www.burginia.de/wp-content/uploads/2026/
 02/Logo_ICB_AHCGC-2027.jpg
CATEGORIES:AHADC/GC
LOCATION:Parkhotel Nordwalde\, Bahnhofstraße 121\, Nordwalde\, NRW\, 48356
 \, NRW\, Deutschland
X-APPLE-STRUCTURED-LOCATION;VALUE=URI;X-ADDRESS=Bahnhofstraße 121\, Nordwa
 lde\, NRW\, 48356\, NRW\, Deutschland;X-APPLE-RADIUS=100;X-TITLE=Parkhotel
  Nordwalde:geo:0,0
END:VEVENT
BEGIN:VTIMEZONE
TZID:Europe/Berlin
X-LIC-LOCATION:Europe/Berlin
BEGIN:DAYLIGHT
DTSTART:20260329T030000
TZOFFSETFROM:+0100
TZOFFSETTO:+0200
TZNAME:CEST
END:DAYLIGHT
BEGIN:STANDARD
DTSTART:20261025T020000
TZOFFSETFROM:+0200
TZOFFSETTO:+0100
TZNAME:CET
END:STANDARD
END:VTIMEZONE
END:VCALENDAR